View In:
ArcGIS JavaScript
ArcGIS Online Map Viewer
ArcGIS Earth
Service Description: BathyExpected_crf
Name: BathyExpected_crf
Description:
Single Fused Map Cache: false
Extent:
XMin: -81.65820010641512
YMin: 25.746532584323585
XMax: -79.94651916805908
YMax: 30.749180188690126
Spatial Reference: 4326
(4326)
LatestVCSWkid(0)
Initial Extent:
XMin: -81.65820010641512
YMin: 25.746532584323585
XMax: -79.94651916805908
YMax: 30.749180188690126
Spatial Reference: 4326
(4326)
LatestVCSWkid(0)
Full Extent:
XMin: -81.65820010641512
YMin: 25.746532584323585
XMax: -79.94651916805908
YMax: 30.749180188690126
Spatial Reference: 4326
(4326)
LatestVCSWkid(0)
Time Info:
Start Time Field: StdTime
End Time Field: StdTime
Time Extent:
[2025/03/01 00:00:00 UTC, 2025/06/30 00:00:00 UTC]
Time Reference:
N/A
Pixel Size X: 0.004728400382199004
Pixel Size Y: 0.004728400382198999
Band Count: 1
Pixel Type: S16
RasterFunction Infos: {"rasterFunctionInfos": [{
"name": "None",
"description": "",
"help": ""
}]}
Mensuration Capabilities: Basic
Has Histograms: true
Has Colormap: false
Has Multi Dimensions : true
Rendering Rule:
Min Scale: 0
Max Scale: 0
Copyright Text:
Service Data Type: esriImageServiceDataTypeGeneric
Min Values: -60
Max Values: 18
Mean Values: 0
Standard Deviation Values: 0
Object ID Field:
Fields:
None
Default Mosaic Method: Center
Allowed Mosaic Methods:
SortField:
SortValue: null
Mosaic Operator: First
Default Compression Quality: 75
Default Resampling Method: Bilinear
Max Record Count: null
Max Image Height: 4100
Max Image Width: 15000
Max Download Image Count: null
Max Mosaic Image Count: null
Allow Raster Function: true
Allow Copy: true
Allow Analysis: true
Allow Compute TiePoints: false
Supports Statistics: false
Supports Advanced Queries: false
Use StandardizedQueries: true
Raster Type Infos:
Name: Raster Dataset
Description: Supports all ArcGIS Raster Datasets
Help:
Has Raster Attribute Table: false
Edit Fields Info: null
Ownership Based AccessControl For Rasters: null
Child Resources:
Info
Histograms
Statistics
Key Properties
Legend
Raster Function Infos
Multidimensional Info
Slices
Supported Operations:
Export Image
Identify
Measure
Compute Histograms
Compute Statistics Histograms
Get Samples
Compute Class Statistics
Query Boundary
Compute Pixel Location
Compute Angles
Validate
Project